BEGIN:VCALENDAR
VERSION:2.0
PRODID:-//Sociedad Andaluza de Neurocirugía SOANNE - ECPv5.0.2.1//NONSGML v1.0//EN
CALSCALE:GREGORIAN
METHOD:PUBLISH
X-WR-CALNAME:Sociedad Andaluza de Neurocirugía SOANNE
X-ORIGINAL-URL:https://soanne.es
X-WR-CALDESC:Eventos para Sociedad Andaluza de Neurocirugía SOANNE
BEGIN:VTIMEZONE
TZID:Europe/Paris
BEGIN:DAYLIGHT
TZOFFSETFROM:+0100
TZOFFSETTO:+0200
TZNAME:CEST
DTSTART:20220327T010000
END:DAYLIGHT
BEGIN:STANDARD
TZOFFSETFROM:+0200
TZOFFSETTO:+0100
TZNAME:CET
DTSTART:20221030T010000
END:STANDARD
END:VTIMEZONE
BEGIN:VEVENT
DTSTART;VALUE=DATE:20221016
DTEND;VALUE=DATE:20221021
DTSTAMP:20260423T134351
CREATED:20220708T171954Z
LAST-MODIFIED:20220708T174106Z
UID:4045-1665878400-1666310399@soanne.es
SUMMARY:EANS2022 Belgrade\, October 16-20
DESCRIPTION:\n					\n						\nDear colleagues\, dear friends\, \nWelcome to EANS2022 – European Congress of Neurosurgery – and welcome to Belgrade! \nThe Congress theme – Trends\, Insights\, Innovations: Neurosurgery beyond Technology – addresses the complex relation between technological advances and human ingenuity in the field of neurosurgery. The age of rapid technological progress\, artificial intelligence\, machine learning and virtual reality in the 21st century has brought many benefits to neurosurgery\, but also many challenges. \nAfter two turbulent pandemic years\, the Congress in Belgrade will represent the regathering of European and world experts in neurosurgery. It will provide an excellent opportunity for sharing experiences and exchanging ideas through the top-level scientific program\, aimed at providing a comprehensive insight into these benefits and challenges and striking the right balance between technology and human (neurosurgeons’) touch. \nThe opportunity to hold this event of utmost scientific and social importance in Belgrade is a special honour for the neurosurgical community in Serbia and a much-appreciated acknowledgment of the enhanced regional and international cooperation in the previous period. \nThe Congress host city\, Belgrade\, has been the venue of several noteworthy international neurosurgical events over the past years – that said\, we are particularly delighted to be able to host the EANS2022 Congress\, which encapsulates the reintegration of the region into the mainstream of European neurosurgery. \nOffering a unique blend between West and East\, North and South\, past and future\, Belgrade will surely greet you with an open heart and an open mind. \nWe very much look forward to seeing you all in person next October in Belgrade! \nWelcome. Explore. Enjoy. \n\n\nAndreas Demetriades\nPresident of the EANS \n\n\nLukas Rasulic\nCongress President \n\n\n\n					\n				\n
URL:https://soanne.es/evento/eans2022-belgrade-october-16-20/
LOCATION:Crowne Plaza Belgrade\, Vladimira Popovica 10\, Belgrade\, 11070\, Serbia
ATTACH;FMTTYPE=image/jpeg:https://soanne.es/wp-content/uploads/2022/07/eans.jpg
END:VEVENT
END:VCALENDAR