BEGIN:VCALENDAR
VERSION:2.0
PRODID:-//Sociedad Andaluza de Neurocirugía SOANNE - ECPv5.0.2.1//NONSGML v1.0//EN
CALSCALE:GREGORIAN
METHOD:PUBLISH
X-WR-CALNAME:Sociedad Andaluza de Neurocirugía SOANNE
X-ORIGINAL-URL:https://soanne.es
X-WR-CALDESC:Eventos para Sociedad Andaluza de Neurocirugía SOANNE
BEGIN:VTIMEZONE
TZID:Europe/Paris
BEGIN:DAYLIGHT
TZOFFSETFROM:+0100
TZOFFSETTO:+0200
TZNAME:CEST
DTSTART:20220327T010000
END:DAYLIGHT
BEGIN:STANDARD
TZOFFSETFROM:+0200
TZOFFSETTO:+0100
TZNAME:CET
DTSTART:20221030T010000
END:STANDARD
END:VTIMEZONE
BEGIN:VEVENT
DTSTART;TZID=Europe/Paris:20220615T083000
DTEND;TZID=Europe/Paris:20220615T134500
DTSTAMP:20260425T104021
CREATED:20220518T231858Z
LAST-MODIFIED:20220518T233110Z
UID:3889-1655281800-1655300700@soanne.es
SUMMARY:JORNADA OLIGOSPAIN: Un nuevo camino frente al oligodendroglioma
DESCRIPTION:\nEstimados socios de la SOANNE\, \nOs informamos de que el próximo 15 de junio se celebrará en el Instituto Maimónides de Investigación Biomédica de Córdoba (IMIBIC) una Jornada titulada «OLIGOSPAIN: Un nuevo camino frente al oligodendroglioma«\, organizada por el IMIBIC y el Hospital Universitario Reina Sofía (HURS). Se ha solicitado la acreditación de dicha jornada por la ACSA para el personal biomédico y sanitario. \nLos oligodendrogliomas son una forma de cáncer cerebral infrecuente a la que se presta poca atención y recursos. En este sentido\, el objetivo principal de esta jornada es fomentar la investigación del oligodendroglioma desde una perspectiva clínica\, traslacional y social para crear la primera plataforma Europea de investigación sobre esta patología devastadora y así brindarles a los pacientes y familiares nuevas soluciones. \nLugar de celebración: Salón de actos del IMIBIC.\nAforo limitado: 50 personas.\nHorario: de 08:30 h a 13:45 h.\nFormulario de inscripción: https://formularios.imibic.org/index.php/294934\nFecha fin de inscripción: 14/06/2022 \nPara mayor información\, se adjunta cartel y programa. \nOs invitamos además a seguirnos en redes sociales: \nhttps://www.instagram.com/oligospain/\nhttps://www.facebook.com/oligospain \nMuchas gracias por vuestra atención\,\nUn saludo\, \nJuan Solivera Vela\nJefe de Servicio de Neurocirugía\nHospital Universitario Reina Sofía\nCórdoba \n\n.fusion-button.button-1 .fusion-button-text\, .fusion-button.button-1 i {color:#ffffff;}.fusion-button.button-1 .fusion-button-icon-divider{border-color:#ffffff;}.fusion-button.button-1:hover .fusion-button-text\, .fusion-button.button-1:hover i\,.fusion-button.button-1:focus .fusion-button-text\, .fusion-button.button-1:focus i\,.fusion-button.button-1:active .fusion-button-text\, .fusion-button.button-1:active{color:#ffffff;}.fusion-button.button-1:hover .fusion-button-icon-divider\, .fusion-button.button-1:hover .fusion-button-icon-divider\, .fusion-button.button-1:active .fusion-button-icon-divider{border-color:#ffffff;}.fusion-button.button-1:hover\, .fusion-button.button-1:focus\, .fusion-button.button-1:active{border-color:#ffffff;}.fusion-button.button-1 {border-color:#ffffff;border-radius:0px;}.fusion-button.button-1{background: #777;}.fusion-button.button-1:hover\,.button-1:focus\,.fusion-button.button-1:active{background: #333;}INSCRIPCIONES\n\n.fusion-button.button-2 .fusion-button-text\, .fusion-button.button-2 i {color:#ffffff;}.fusion-button.button-2 .fusion-button-icon-divider{border-color:#ffffff;}.fusion-button.button-2:hover .fusion-button-text\, .fusion-button.button-2:hover i\,.fusion-button.button-2:focus .fusion-button-text\, .fusion-button.button-2:focus i\,.fusion-button.button-2:active .fusion-button-text\, .fusion-button.button-2:active{color:#ffffff;}.fusion-button.button-2:hover .fusion-button-icon-divider\, .fusion-button.button-2:hover .fusion-button-icon-divider\, .fusion-button.button-2:active .fusion-button-icon-divider{border-color:#ffffff;}.fusion-button.button-2:hover\, .fusion-button.button-2:focus\, .fusion-button.button-2:active{border-color:#ffffff;}.fusion-button.button-2 {border-color:#ffffff;border-radius:0px;}.fusion-button.button-2{background: #ff9800;}.fusion-button.button-2:hover\,.button-2:focus\,.fusion-button.button-2:active{background: #607d8b;}VER PROGRAMA EN PDF\n\n\n\n \n  \n
URL:https://soanne.es/evento/jornada-oligospain-un-nuevo-camino-frente-al-oligodendroglioma/
LOCATION:SALÓN DE ACTOS DEL IMIBIC\, Avda. Menéndez Pidal s/n\, Córdoba\, 14004\, Spain
CATEGORIES:OLIGODENDROGLIOMA
ATTACH;FMTTYPE=image/jpeg:https://soanne.es/wp-content/uploads/2022/05/imagen-destacada-oligospain.jpg
END:VEVENT
END:VCALENDAR