BEGIN:VCALENDAR
VERSION:2.0
PRODID:-//Sociedad Andaluza de Neurocirugía SOANNE - ECPv5.0.2.1//NONSGML v1.0//EN
CALSCALE:GREGORIAN
METHOD:PUBLISH
X-WR-CALNAME:Sociedad Andaluza de Neurocirugía SOANNE
X-ORIGINAL-URL:https://soanne.es
X-WR-CALDESC:Eventos para Sociedad Andaluza de Neurocirugía SOANNE
BEGIN:VTIMEZONE
TZID:Europe/Paris
BEGIN:DAYLIGHT
TZOFFSETFROM:+0100
TZOFFSETTO:+0200
TZNAME:CEST
DTSTART:20210328T010000
END:DAYLIGHT
BEGIN:STANDARD
TZOFFSETFROM:+0200
TZOFFSETTO:+0100
TZNAME:CET
DTSTART:20211031T010000
END:STANDARD
END:VTIMEZONE
BEGIN:VEVENT
DTSTART;VALUE=DATE:20210709
DTEND;VALUE=DATE:20210710
DTSTAMP:20260425T214755
CREATED:20210624T225437Z
LAST-MODIFIED:20210601T225625Z
UID:3573-1625788800-1625875199@soanne.es
SUMMARY:SENEC WEBINARS 2021 - 9 de julio
DESCRIPTION:\n					\n						 \n.fusion-button.button-1 .fusion-button-text\, .fusion-button.button-1 i {color:#ffffff;}.fusion-button.button-1 .fusion-button-icon-divider{border-color:#ffffff;}.fusion-button.button-1:hover .fusion-button-text\, .fusion-button.button-1:hover i\,.fusion-button.button-1:focus .fusion-button-text\, .fusion-button.button-1:focus i\,.fusion-button.button-1:active .fusion-button-text\, .fusion-button.button-1:active{color:#ffffff;}.fusion-button.button-1:hover .fusion-button-icon-divider\, .fusion-button.button-1:hover .fusion-button-icon-divider\, .fusion-button.button-1:active .fusion-button-icon-divider{border-color:#ffffff;}.fusion-button.button-1:hover\, .fusion-button.button-1:focus\, .fusion-button.button-1:active{border-color:#ffffff;}.fusion-button.button-1 {border-color:#ffffff;border-radius:0px;}.fusion-button.button-1{background: #ff9800;}.fusion-button.button-1:hover\,.button-1:focus\,.fusion-button.button-1:active{background: #607d8b;}VER HOJA INFORMATIVA EN PDF\n\n					\n				\n
URL:https://soanne.es/evento/senec-webinars-2021-9-de-julio/
CATEGORIES:SENEC WEBINARS 2021
ATTACH;FMTTYPE=image/jpeg:https://soanne.es/wp-content/uploads/2021/06/imagen-destacada-webinars-senec2021.jpg
END:VEVENT
END:VCALENDAR