BEGIN:VCALENDAR
VERSION:2.0
PRODID:-//Sociedad Andaluza de Neurocirugía SOANNE - ECPv5.0.2.1//NONSGML v1.0//EN
CALSCALE:GREGORIAN
METHOD:PUBLISH
X-WR-CALNAME:Sociedad Andaluza de Neurocirugía SOANNE
X-ORIGINAL-URL:https://soanne.es
X-WR-CALDESC:Eventos para Sociedad Andaluza de Neurocirugía SOANNE
BEGIN:VTIMEZONE
TZID:Europe/Paris
BEGIN:DAYLIGHT
TZOFFSETFROM:+0100
TZOFFSETTO:+0200
TZNAME:CEST
DTSTART:20210328T010000
END:DAYLIGHT
BEGIN:STANDARD
TZOFFSETFROM:+0200
TZOFFSETTO:+0100
TZNAME:CET
DTSTART:20211031T010000
END:STANDARD
END:VTIMEZONE
BEGIN:VEVENT
DTSTART;VALUE=DATE:20210514
DTEND;VALUE=DATE:20210515
DTSTAMP:20260426T034821
CREATED:20210504T192256Z
LAST-MODIFIED:20210504T194251Z
UID:3428-1620950400-1621036799@soanne.es
SUMMARY:SENEPE - Hidrocefalia
DESCRIPTION:.fusion-button.button-1 .fusion-button-text\, .fusion-button.button-1 i {color:#ffffff;}.fusion-button.button-1 .fusion-button-icon-divider{border-color:#ffffff;}.fusion-button.button-1:hover .fusion-button-text\, .fusion-button.button-1:hover i\,.fusion-button.button-1:focus .fusion-button-text\, .fusion-button.button-1:focus i\,.fusion-button.button-1:active .fusion-button-text\, .fusion-button.button-1:active{color:#ffffff;}.fusion-button.button-1:hover .fusion-button-icon-divider\, .fusion-button.button-1:hover .fusion-button-icon-divider\, .fusion-button.button-1:active .fusion-button-icon-divider{border-color:#ffffff;}.fusion-button.button-1:hover\, .fusion-button.button-1:focus\, .fusion-button.button-1:active{border-color:#ffffff;}.fusion-button.button-1 {border-color:#ffffff;border-radius:0px;}.fusion-button.button-1{background: #ff9800;}.fusion-button.button-1:hover\,.button-1:focus\,.fusion-button.button-1:active{background: #607d8b;}INSCRIPCIONES AL SEMINARIO WEB\n\n\n\nSeminario web SENEP:\nHIDROCEFALIA\n\nFecha : Viernes 14 de mayo de 2021\nHorario : de 18:30 a 19:50h\nPROGRAMA\n\n\n\n\n18:30 h\nPRESENTACIÓN\n\n\n\nMODERA: Dra. Elena López García.\nNeurocirujana. Servicio de Neurocirugía. Complejo Hospitalario Universitario\nde Santiago de Compostela.\n\n\n\n18:35 h\nPONENCIA 1:\nICP MONITORING IN SHUNT OVERDRAINAGE\n\n\n\n\nDr. Bienvenido Ros López. \nJefe de Sección. Servicio de Neurocirugía.\nHospital Regional Universitario. Málaga.\n\n\n\n19:00 h\nPONENCIA 2:\nAQUEDUCTOPLASTY FOR THE ISOLATED FOURTH VENTRICLE;\nSURGICAL TECHNIQUE\, COMPLICATIONS AND 15-YEAR FOLLOW UP\n\n\n\n\nProf. Giuseppe Cinalli. \nDirector\, Department of Neurosurgery and Pediatric Neurosurgery.\nDivision. Santobono-Pausilipon Children´s Hospital. Nápoles.\n\n\n\n19:25 h\n\nTURNO DE PREGUNTAS Y DISCUSIÓN\n\n\n19:50 h\n\nFINALIZACIÓN\n\n\n\n\n\n.fusion-button.button-2 .fusion-button-text\, .fusion-button.button-2 i {color:#ffffff;}.fusion-button.button-2 .fusion-button-icon-divider{border-color:#ffffff;}.fusion-button.button-2:hover .fusion-button-text\, .fusion-button.button-2:hover i\,.fusion-button.button-2:focus .fusion-button-text\, .fusion-button.button-2:focus i\,.fusion-button.button-2:active .fusion-button-text\, .fusion-button.button-2:active{color:#ffffff;}.fusion-button.button-2:hover .fusion-button-icon-divider\, .fusion-button.button-2:hover .fusion-button-icon-divider\, .fusion-button.button-2:active .fusion-button-icon-divider{border-color:#ffffff;}.fusion-button.button-2:hover\, .fusion-button.button-2:focus\, .fusion-button.button-2:active{border-color:#ffffff;}.fusion-button.button-2 {border-color:#ffffff;border-radius:0px;}.fusion-button.button-2{background: #ff9800;}.fusion-button.button-2:hover\,.button-2:focus\,.fusion-button.button-2:active{background: #607d8b;}VER PROGRAMA EN PDF\n\nPONENTES\n\n\n\n\n\nModera: \nDra. Elena López García \nNeurocirujana. Servicio de Neurocirugía.\nComplejo Hospitalario Universitario de Santiago de Compostela.\n\n\n\nPonente: \nDr. Bienvenido Ros López \nJefe de Sección. Servicio de Neurocirugía.\nHospital Regional Universitario. Málaga.\n\n\n\n\nPonente: \nProf. Giuseppe Cinalli \nDirector\, Department of Neurosurgery and Pediatric Neurosurgery\nDivision. Santobono-Pausilipon Children´s Hospital. Nápoles.\n\n\n\n\n\n\n.fusion-button.button-3 .fusion-button-text\, .fusion-button.button-3 i {color:#ffffff;}.fusion-button.button-3 .fusion-button-icon-divider{border-color:#ffffff;}.fusion-button.button-3:hover .fusion-button-text\, .fusion-button.button-3:hover i\,.fusion-button.button-3:focus .fusion-button-text\, .fusion-button.button-3:focus i\,.fusion-button.button-3:active .fusion-button-text\, .fusion-button.button-3:active{color:#ffffff;}.fusion-button.button-3:hover .fusion-button-icon-divider\, .fusion-button.button-3:hover .fusion-button-icon-divider\, .fusion-button.button-3:active .fusion-button-icon-divider{border-color:#ffffff;}.fusion-button.button-3:hover\, .fusion-button.button-3:focus\, .fusion-button.button-3:active{border-color:#ffffff;}.fusion-button.button-3 {border-color:#ffffff;border-radius:0px;}.fusion-button.button-3{background: #ff9800;}.fusion-button.button-3:hover\,.button-3:focus\,.fusion-button.button-3:active{background: #607d8b;}INSCRIPCIONES AL SEMINARIO WEB\n\n \n  \n
URL:https://soanne.es/evento/senepe-hidrocefalia/
CATEGORIES:Seminarios Online SENEPE,Senep Webinars 2021
ATTACH;FMTTYPE=image/jpeg:https://soanne.es/wp-content/uploads/2021/05/webinars-imagenes-destacadas-mayo2.jpg
ORGANIZER;CN="SENEP%20-%20Webinars%202021":MAILTO:secretaria@senepe.es
END:VEVENT
END:VCALENDAR