BEGIN:VCALENDAR
VERSION:2.0
PRODID:-//Sociedad Andaluza de Neurocirugía SOANNE - ECPv5.0.2.1//NONSGML v1.0//EN
CALSCALE:GREGORIAN
METHOD:PUBLISH
X-WR-CALNAME:Sociedad Andaluza de Neurocirugía SOANNE
X-ORIGINAL-URL:https://soanne.es
X-WR-CALDESC:Eventos para Sociedad Andaluza de Neurocirugía SOANNE
BEGIN:VTIMEZONE
TZID:Europe/Paris
BEGIN:DAYLIGHT
TZOFFSETFROM:+0100
TZOFFSETTO:+0200
TZNAME:CEST
DTSTART:20210328T010000
END:DAYLIGHT
BEGIN:STANDARD
TZOFFSETFROM:+0200
TZOFFSETTO:+0100
TZNAME:CET
DTSTART:20211031T010000
END:STANDARD
END:VTIMEZONE
BEGIN:VEVENT
DTSTART;VALUE=DATE:20210618
DTEND;VALUE=DATE:20210619
DTSTAMP:20260426T004907
CREATED:20210504T193218Z
LAST-MODIFIED:20210504T194226Z
UID:3433-1623974400-1624060799@soanne.es
SUMMARY:SENEPE - Patología Malformativa
DESCRIPTION:\n\nSeminario web SENEP:\nPATOLOGÍA MALFORMATIVA\n\nFecha : Viernes 18 de junio de 2021\nHorario : de 18:30 a 19:50h\nPROGRAMA\n\n\n\n\n18:30 h\nPRESENTACIÓN\n\n\n\nMODERA: Dr. Pablo Miranda Lloret.\nCoordinador Servicio de Neurocirugía. Hospital Universitario y Politécnico\nde la Fe de Valencia.\n\n\n\n18:35 h\nPONENCIA 1:\nCONTROVERSIES IN THE TREATMENT OF CHIARI TYPE 1\nMALFORMATION IN CHILDREN. TIPS AND TRICKS\n\n\n\n\nDra. María Antonia Poca Pastor. \nNeurocirujana. Servicio de Neurocirugía. Hospital Universitario Vall d’Hebrón. Barcelona\n\n\n19:00 h\nPONENCIA 2:\nSUPRASELLAR CYSTS IN CHILDREN\n\n\n\n\nProf. Federico Di Rocco. \nPediatric Neurosurgeon. Dep. Pediatric Neurosurgery.\nCentre de Référence Craniosténoses. Hôpital Femme Mère Enfant.\nUniversité de Lyon\, France.\n\n\n\n19:25 h\n\nTURNO DE PREGUNTAS Y DISCUSIÓN\n\n\n19:50 h\n\nFINALIZACIÓN\n\n\n\n\n\n.fusion-button.button-1 .fusion-button-text\, .fusion-button.button-1 i {color:#ffffff;}.fusion-button.button-1 .fusion-button-icon-divider{border-color:#ffffff;}.fusion-button.button-1:hover .fusion-button-text\, .fusion-button.button-1:hover i\,.fusion-button.button-1:focus .fusion-button-text\, .fusion-button.button-1:focus i\,.fusion-button.button-1:active .fusion-button-text\, .fusion-button.button-1:active{color:#ffffff;}.fusion-button.button-1:hover .fusion-button-icon-divider\, .fusion-button.button-1:hover .fusion-button-icon-divider\, .fusion-button.button-1:active .fusion-button-icon-divider{border-color:#ffffff;}.fusion-button.button-1:hover\, .fusion-button.button-1:focus\, .fusion-button.button-1:active{border-color:#ffffff;}.fusion-button.button-1 {border-color:#ffffff;border-radius:0px;}.fusion-button.button-1{background: #ff9800;}.fusion-button.button-1:hover\,.button-1:focus\,.fusion-button.button-1:active{background: #607d8b;}VER PROGRAMA EN PDF\n\nPONENTES\n\n\n\n\n\nModera: \nDr. Pablo Miranda Lloret \nCoordinador Servicio de Neurocirugía.\nHospital Universitario y Politécnico de la Fe de Valencia.\n\n\n\nPonente: \nDra. María Antonia Poca Pastor\n \nNeurocirujana. Servicio de Neurocirugía.\nHospital Universitario Vall d’Hebrón. Barcelona.\n\n\n\n\nPonente: \nProf. Federico Di Rocco\n \nPediatric Neurosurgeon. Dep. Pediatric Neurosurgery\nCentre de Référence Craniosténoses. Hôpital Femme Mère Enfant.\nUniversité de Lyon\, France.\n\n\n\n\n\n\nINSCRIPCIÓN PRÓXIMAMENTE\n\n \n  \n
URL:https://soanne.es/evento/senepe-patologia-malformativa/
CATEGORIES:Seminarios Online SENEPE,Senep Webinars 2021
ATTACH;FMTTYPE=image/jpeg:https://soanne.es/wp-content/uploads/2021/05/webinars-imagenes-destacadas-junio2.jpg
ORGANIZER;CN="SENEP%20-%20Webinars%202021":MAILTO:secretaria@senepe.es
END:VEVENT
END:VCALENDAR