BEGIN:VCALENDAR
VERSION:2.0
PRODID:-//Sociedad Andaluza de Neurocirugía SOANNE - ECPv5.0.2.1//NONSGML v1.0//EN
CALSCALE:GREGORIAN
METHOD:PUBLISH
X-WR-CALNAME:Sociedad Andaluza de Neurocirugía SOANNE
X-ORIGINAL-URL:https://soanne.es
X-WR-CALDESC:Eventos para Sociedad Andaluza de Neurocirugía SOANNE
BEGIN:VTIMEZONE
TZID:Europe/Paris
BEGIN:DAYLIGHT
TZOFFSETFROM:+0100
TZOFFSETTO:+0200
TZNAME:CEST
DTSTART:20250330T010000
END:DAYLIGHT
BEGIN:STANDARD
TZOFFSETFROM:+0200
TZOFFSETTO:+0100
TZNAME:CET
DTSTART:20251026T010000
END:STANDARD
END:VTIMEZONE
BEGIN:VEVENT
DTSTART;VALUE=DATE:20251126
DTEND;VALUE=DATE:20251129
DTSTAMP:20260424T081952
CREATED:20251107T200112Z
LAST-MODIFIED:20251107T200518Z
UID:5067-1764115200-1764374399@soanne.es
SUMMARY:II EDICIÓN - ENTRENAMIENTO AVANZADO EN ABORDAJES QUIRÚRGICOS ESPINALES
DESCRIPTION:\n					\n						OBJETIVOS:\nAdquirir los conocimientos y habilidades necesarios para realizar un abordaje quirúrgico espinal\, tanto en zona anterior como posterior. \nInscripciones:\napoyo.admin.gr.fps@juntadeandalucia.es\nTel. 951 015 300 \n .fusion-button.button-1 {border-radius:0px;}DESCARGAR PROGRAMA E INFORMACIÓN GENERAL EN PDF \n \n \n \n \n\n\n					\n				\n
URL:https://soanne.es/evento/ii-edicion-entrenamiento-avanzado-en-abordajes-quirurgicos-espinales/
LOCATION:Centro de Simulación Clínica IAVANTE – Granada\, Av. Doctor Jesús Candel Fábregas\, 21\, Granada\, 18016\, Spain
ATTACH;FMTTYPE=image/jpeg:https://soanne.es/wp-content/uploads/2025/11/ENTRENAMIENTO-AVANZADO-EN-ABORDAJES-NOV25-destacada.jpg
END:VEVENT
END:VCALENDAR